BEGIN:VCALENDAR
VERSION:2.0
PRODID:-//Monks Yard - ECPv5.16.3.1//NONSGML v1.0//EN
CALSCALE:GREGORIAN
METHOD:PUBLISH
X-WR-CALNAME:Monks Yard
X-ORIGINAL-URL:https://monksyard.co.uk
X-WR-CALDESC:Events for Monks Yard
BEGIN:VTIMEZONE
TZID:UTC
BEGIN:STANDARD
TZOFFSETFROM:+0000
TZOFFSETTO:+0000
TZNAME:UTC
DTSTART:20180101T000000
END:STANDARD
END:VTIMEZONE
BEGIN:VEVENT
DTSTART;TZID=UTC:20180928T090000
DTEND;TZID=UTC:20180928T170000
DTSTAMP:20260419T204544
CREATED:20180906T134027Z
LAST-MODIFIED:20180906T134027Z
UID:1000-1538125200-1538154000@monksyard.co.uk
SUMMARY:'Worlds Biggest Coffee Morning'
DESCRIPTION:Helping to support the amazing work that Macmillan do and having some fun at the same time. Please join us on the day\, cake and coffee – it can’t be missed!
URL:https://monksyard.co.uk/event/worlds-biggest-coffee-morning/
END:VEVENT
END:VCALENDAR