BEGIN:VCALENDAR
VERSION:2.0
PRODID:-//Monks Yard - ECPv5.16.3.1//NONSGML v1.0//EN
CALSCALE:GREGORIAN
METHOD:PUBLISH
X-WR-CALNAME:Monks Yard
X-ORIGINAL-URL:https://monksyard.co.uk
X-WR-CALDESC:Events for Monks Yard
BEGIN:VTIMEZONE
TZID:UTC
BEGIN:STANDARD
TZOFFSETFROM:+0000
TZOFFSETTO:+0000
TZNAME:UTC
DTSTART:20180101T000000
END:STANDARD
END:VTIMEZONE
BEGIN:VEVENT
DTSTART;TZID=UTC:20180807T093000
DTEND;TZID=UTC:20180807T113000
DTSTAMP:20260421T194619
CREATED:20180710T131247Z
LAST-MODIFIED:20180710T131247Z
UID:817-1533634200-1533641400@monksyard.co.uk
SUMMARY:Talking Cafe in MY Eating Place
DESCRIPTION:An informal time to meet together for a chat and a coffee\, all welcome!
URL:https://monksyard.co.uk/event/talking-cafe-in-my-eating-place/
END:VEVENT
END:VCALENDAR