BEGIN:VCALENDAR
VERSION:2.0
PRODID:-//Monks Yard - ECPv5.16.3.1//NONSGML v1.0//EN
CALSCALE:GREGORIAN
METHOD:PUBLISH
X-WR-CALNAME:Monks Yard
X-ORIGINAL-URL:https://monksyard.co.uk
X-WR-CALDESC:Events for Monks Yard
BEGIN:VTIMEZONE
TZID:UTC
BEGIN:STANDARD
TZOFFSETFROM:+0000
TZOFFSETTO:+0000
TZNAME:UTC
DTSTART:20180101T000000
END:STANDARD
END:VTIMEZONE
BEGIN:VEVENT
DTSTART;TZID=UTC:20180703T093000
DTEND;TZID=UTC:20180703T113000
DTSTAMP:20260422T003741
CREATED:20180625T135125Z
LAST-MODIFIED:20180625T135545Z
UID:733-1530610200-1530617400@monksyard.co.uk
SUMMARY:Talking Cafe - First Tuesday of the month
DESCRIPTION:
URL:https://monksyard.co.uk/event/talking-cafe-first-tuesday-of-the-month/
END:VEVENT
END:VCALENDAR