BEGIN:VCALENDAR
VERSION:2.0
PRODID:-//Monks Yard - ECPv5.16.3.1//NONSGML v1.0//EN
CALSCALE:GREGORIAN
METHOD:PUBLISH
X-WR-CALNAME:Monks Yard
X-ORIGINAL-URL:https://monksyard.co.uk
X-WR-CALDESC:Events for Monks Yard
BEGIN:VTIMEZONE
TZID:UTC
BEGIN:STANDARD
TZOFFSETFROM:+0000
TZOFFSETTO:+0000
TZNAME:UTC
DTSTART:20180101T000000
END:STANDARD
END:VTIMEZONE
BEGIN:VEVENT
DTSTART;TZID=UTC:20180930T103000
DTEND;TZID=UTC:20180930T120000
DTSTAMP:20260419T192833
CREATED:20180906T133424Z
LAST-MODIFIED:20180906T133424Z
UID:996-1538303400-1538308800@monksyard.co.uk
SUMMARY:Sunday Service and shared lunch
DESCRIPTION:
URL:https://monksyard.co.uk/event/sunday-service-and-shared-lunch/
END:VEVENT
END:VCALENDAR