BEGIN:VCALENDAR
VERSION:2.0
PRODID:-//Monks Yard - ECPv5.16.3.1//NONSGML v1.0//EN
CALSCALE:GREGORIAN
METHOD:PUBLISH
X-WR-CALNAME:Monks Yard
X-ORIGINAL-URL:https://monksyard.co.uk
X-WR-CALDESC:Events for Monks Yard
BEGIN:VTIMEZONE
TZID:UTC
BEGIN:STANDARD
TZOFFSETFROM:+0000
TZOFFSETTO:+0000
TZNAME:UTC
DTSTART:20170101T000000
END:STANDARD
END:VTIMEZONE
BEGIN:VEVENT
DTSTART;TZID=UTC:20171105T103000
DTEND;TZID=UTC:20171105T120000
DTSTAMP:20260422T041050
CREATED:20171026T084548Z
LAST-MODIFIED:20171026T084548Z
UID:505-1509877800-1509883200@monksyard.co.uk
SUMMARY:Sunday Service
DESCRIPTION:‘Cafe’ style Church in the Events room\, all welcome!
URL:https://monksyard.co.uk/event/sunday-service-4/
END:VEVENT
END:VCALENDAR