BEGIN:VCALENDAR
VERSION:2.0
PRODID:-//Monks Yard - ECPv5.16.3.1//NONSGML v1.0//EN
CALSCALE:GREGORIAN
METHOD:PUBLISH
X-WR-CALNAME:Monks Yard
X-ORIGINAL-URL:https://monksyard.co.uk
X-WR-CALDESC:Events for Monks Yard
BEGIN:VTIMEZONE
TZID:UTC
BEGIN:STANDARD
TZOFFSETFROM:+0000
TZOFFSETTO:+0000
TZNAME:UTC
DTSTART:20170101T000000
END:STANDARD
END:VTIMEZONE
BEGIN:VEVENT
DTSTART;TZID=UTC:20171112T103000
DTEND;TZID=UTC:20171112T120000
DTSTAMP:20260422T040707
CREATED:20171025T151134Z
LAST-MODIFIED:20171025T151134Z
UID:499-1510482600-1510488000@monksyard.co.uk
SUMMARY:Sunday Service
DESCRIPTION:Sunday Service\, open to all.
URL:https://monksyard.co.uk/event/sunday-service-3/
END:VEVENT
END:VCALENDAR