BEGIN:VCALENDAR
VERSION:2.0
PRODID:-//Monks Yard - ECPv5.16.3.1//NONSGML v1.0//EN
CALSCALE:GREGORIAN
METHOD:PUBLISH
X-WR-CALNAME:Monks Yard
X-ORIGINAL-URL:https://monksyard.co.uk
X-WR-CALDESC:Events for Monks Yard
BEGIN:VTIMEZONE
TZID:UTC
BEGIN:STANDARD
TZOFFSETFROM:+0000
TZOFFSETTO:+0000
TZNAME:UTC
DTSTART:20180101T000000
END:STANDARD
END:VTIMEZONE
BEGIN:VEVENT
DTSTART;TZID=UTC:20180909T103000
DTEND;TZID=UTC:20180909T120000
DTSTAMP:20260420T134822
CREATED:20180906T132510Z
LAST-MODIFIED:20180906T132510Z
UID:984-1536489000-1536494400@monksyard.co.uk
SUMMARY:Sunday Service
DESCRIPTION:10:30am all welcome.
URL:https://monksyard.co.uk/event/sunday-service-11/
END:VEVENT
END:VCALENDAR