BEGIN:VCALENDAR
VERSION:2.0
PRODID:-//Monks Yard - ECPv5.16.3.1//NONSGML v1.0//EN
CALSCALE:GREGORIAN
METHOD:PUBLISH
X-WR-CALNAME:Monks Yard
X-ORIGINAL-URL:https://monksyard.co.uk
X-WR-CALDESC:Events for Monks Yard
BEGIN:VTIMEZONE
TZID:UTC
BEGIN:STANDARD
TZOFFSETFROM:+0000
TZOFFSETTO:+0000
TZNAME:UTC
DTSTART:20180101T000000
END:STANDARD
END:VTIMEZONE
BEGIN:VEVENT
DTSTART;TZID=UTC:20180701T120000
DTEND;TZID=UTC:20180701T160000
DTSTAMP:20260421T225345
CREATED:20180625T134900Z
LAST-MODIFIED:20180625T134900Z
UID:731-1530446400-1530460800@monksyard.co.uk
SUMMARY:Sunday Roast Dinner
DESCRIPTION:We now serve a delicious roast\, every Sunday from 12 midday until 3pm (closing at 4pm) Book now! On 01460 259286
URL:https://monksyard.co.uk/event/sunday-roast-dinner/
END:VEVENT
END:VCALENDAR