BEGIN:VCALENDAR
VERSION:2.0
PRODID:-//Monks Yard - ECPv5.16.3.1//NONSGML v1.0//EN
CALSCALE:GREGORIAN
METHOD:PUBLISH
X-WR-CALNAME:Monks Yard
X-ORIGINAL-URL:https://monksyard.co.uk
X-WR-CALDESC:Events for Monks Yard
BEGIN:VTIMEZONE
TZID:UTC
BEGIN:STANDARD
TZOFFSETFROM:+0000
TZOFFSETTO:+0000
TZNAME:UTC
DTSTART:20180101T000000
END:STANDARD
END:VTIMEZONE
BEGIN:VEVENT
DTSTART;TZID=UTC:20180818T133000
DTEND;TZID=UTC:20180818T170000
DTSTAMP:20260421T065505
CREATED:20180817T122123Z
LAST-MODIFIED:20180817T122213Z
UID:949-1534599000-1534611600@monksyard.co.uk
SUMMARY:Private Function - Cafe closed early today
DESCRIPTION:Due to a large private private function the cafe will only be serving food until 1:30pm today and the lunch menu will also be limited. Thank you for understanding!
URL:https://monksyard.co.uk/event/private-function-cafe-closed-early-today/
END:VEVENT
END:VCALENDAR