BEGIN:VCALENDAR
VERSION:2.0
PRODID:-//Monks Yard - ECPv5.16.3.1//NONSGML v1.0//EN
CALSCALE:GREGORIAN
METHOD:PUBLISH
X-WR-CALNAME:Monks Yard
X-ORIGINAL-URL:https://monksyard.co.uk
X-WR-CALDESC:Events for Monks Yard
BEGIN:VTIMEZONE
TZID:UTC
BEGIN:STANDARD
TZOFFSETFROM:+0000
TZOFFSETTO:+0000
TZNAME:UTC
DTSTART:20170101T000000
END:STANDARD
END:VTIMEZONE
BEGIN:VEVENT
DTSTART;TZID=UTC:20170304T090000
DTEND;TZID=UTC:20170304T100000
DTSTAMP:20260422T074845
CREATED:20170301T183240Z
LAST-MODIFIED:20170301T183240Z
UID:447-1488618000-1488621600@monksyard.co.uk
SUMMARY:Prayer breakfast at 9:00am
DESCRIPTION:
URL:https://monksyard.co.uk/event/prayer-breakfast-at-900am/
END:VEVENT
END:VCALENDAR