BEGIN:VCALENDAR
VERSION:2.0
PRODID:-//Monks Yard - ECPv5.16.3.1//NONSGML v1.0//EN
CALSCALE:GREGORIAN
METHOD:PUBLISH
X-WR-CALNAME:Monks Yard
X-ORIGINAL-URL:https://monksyard.co.uk
X-WR-CALDESC:Events for Monks Yard
BEGIN:VTIMEZONE
TZID:UTC
BEGIN:STANDARD
TZOFFSETFROM:+0000
TZOFFSETTO:+0000
TZNAME:UTC
DTSTART:20170101T000000
END:STANDARD
END:VTIMEZONE
BEGIN:VEVENT
DTSTART;TZID=UTC:20171219T193000
DTEND;TZID=UTC:20171219T210000
DTSTAMP:20260422T003220
CREATED:20171123T133231Z
LAST-MODIFIED:20171123T133231Z
UID:683-1513711800-1513717200@monksyard.co.uk
SUMMARY:Photography Connect
DESCRIPTION:Evening photography group\, open to all levels of experience.
URL:https://monksyard.co.uk/event/photography-connect-2/
END:VEVENT
END:VCALENDAR