BEGIN:VCALENDAR
VERSION:2.0
PRODID:-//Monks Yard - ECPv5.16.3.1//NONSGML v1.0//EN
CALSCALE:GREGORIAN
METHOD:PUBLISH
X-WR-CALNAME:Monks Yard
X-ORIGINAL-URL:https://monksyard.co.uk
X-WR-CALDESC:Events for Monks Yard
BEGIN:VTIMEZONE
TZID:UTC
BEGIN:STANDARD
TZOFFSETFROM:+0000
TZOFFSETTO:+0000
TZNAME:UTC
DTSTART:20170101T000000
END:STANDARD
END:VTIMEZONE
BEGIN:VEVENT
DTSTART;TZID=UTC:20171122T090000
DTEND;TZID=UTC:20171122T170000
DTSTAMP:20260422T022529
CREATED:20171026T085133Z
LAST-MODIFIED:20171026T085133Z
UID:513-1511341200-1511370000@monksyard.co.uk
SUMMARY:MY Community Day!
DESCRIPTION:This month\, supporting the work done by the Warrior Programme
URL:https://monksyard.co.uk/event/my-community-day/
END:VEVENT
END:VCALENDAR