BEGIN:VCALENDAR
VERSION:2.0
PRODID:-//Monks Yard - ECPv5.16.3.1//NONSGML v1.0//EN
CALSCALE:GREGORIAN
METHOD:PUBLISH
X-WR-CALNAME:Monks Yard
X-ORIGINAL-URL:https://monksyard.co.uk
X-WR-CALDESC:Events for Monks Yard
BEGIN:VTIMEZONE
TZID:UTC
BEGIN:STANDARD
TZOFFSETFROM:+0000
TZOFFSETTO:+0000
TZNAME:UTC
DTSTART:20180101T000000
END:STANDARD
END:VTIMEZONE
BEGIN:VEVENT
DTSTART;TZID=UTC:20180813T113000
DTEND;TZID=UTC:20180813T123000
DTSTAMP:20260421T193934
CREATED:20180710T131352Z
LAST-MODIFIED:20180710T131352Z
UID:819-1534159800-1534163400@monksyard.co.uk
SUMMARY:MY Book Club
DESCRIPTION:Morning book club\, open to all.
URL:https://monksyard.co.uk/event/my-book-club/
END:VEVENT
END:VCALENDAR