BEGIN:VCALENDAR
VERSION:2.0
PRODID:-//Monks Yard - ECPv5.16.3.1//NONSGML v1.0//EN
CALSCALE:GREGORIAN
METHOD:PUBLISH
X-WR-CALNAME:Monks Yard
X-ORIGINAL-URL:https://monksyard.co.uk
X-WR-CALDESC:Events for Monks Yard
BEGIN:VTIMEZONE
TZID:UTC
BEGIN:STANDARD
TZOFFSETFROM:+0000
TZOFFSETTO:+0000
TZNAME:UTC
DTSTART:20180101T000000
END:STANDARD
END:VTIMEZONE
BEGIN:VEVENT
DTSTART;VALUE=DATE:20181225
DTEND;VALUE=DATE:20181226
DTSTAMP:20260419T172856
CREATED:20181214T145507Z
LAST-MODIFIED:20181214T145507Z
UID:1041-1545696000-1545782399@monksyard.co.uk
SUMMARY:Happy Christmas!
DESCRIPTION:Have a wonderful day 🙂
URL:https://monksyard.co.uk/event/happy-christmas/
END:VEVENT
END:VCALENDAR