BEGIN:VCALENDAR
VERSION:2.0
PRODID:-//Monks Yard - ECPv5.16.3.1//NONSGML v1.0//EN
CALSCALE:GREGORIAN
METHOD:PUBLISH
X-WR-CALNAME:Monks Yard
X-ORIGINAL-URL:https://monksyard.co.uk
X-WR-CALDESC:Events for Monks Yard
BEGIN:VTIMEZONE
TZID:UTC
BEGIN:STANDARD
TZOFFSETFROM:+0000
TZOFFSETTO:+0000
TZNAME:UTC
DTSTART:20180101T000000
END:STANDARD
END:VTIMEZONE
BEGIN:VEVENT
DTSTART;TZID=UTC:20180724T193000
DTEND;TZID=UTC:20180724T210000
DTSTAMP:20260421T212142
CREATED:20180710T133508Z
LAST-MODIFIED:20180710T133552Z
UID:843-1532460600-1532466000@monksyard.co.uk
SUMMARY:Family History Group - 'Who do you think you are?!'
DESCRIPTION:Inspired by the latest BBC series of ‘Who do you think you are?’. Why not come along to our next MY Family History group and start your own journey? Tuesday 24th July at 7:30pm \nContact: mycommunity@themonksyard.co.uk for more info or just come along on the night!
URL:https://monksyard.co.uk/event/family-history-group-who-do-you-think-you-are/
END:VEVENT
END:VCALENDAR