BEGIN:VCALENDAR
VERSION:2.0
PRODID:-//Monks Yard - ECPv5.16.3.1//NONSGML v1.0//EN
CALSCALE:GREGORIAN
METHOD:PUBLISH
X-WR-CALNAME:Monks Yard
X-ORIGINAL-URL:https://monksyard.co.uk
X-WR-CALDESC:Events for Monks Yard
BEGIN:VTIMEZONE
TZID:UTC
BEGIN:STANDARD
TZOFFSETFROM:+0000
TZOFFSETTO:+0000
TZNAME:UTC
DTSTART:20200101T000000
END:STANDARD
END:VTIMEZONE
BEGIN:VEVENT
DTSTART;TZID=UTC:20200316T100000
DTEND;TZID=UTC:20200316T120000
DTSTAMP:20260419T155513
CREATED:20200218T111722Z
LAST-MODIFIED:20200225T142854Z
UID:1236-1584352800-1584360000@monksyard.co.uk
SUMMARY:Creative\, Expressive writing workshop day Two
DESCRIPTION:Led by Rachel Godfrey\, author and creative writing facilitator\, in association with Somerset Skills and Learning. The cost for all three workshops: £25 \nTo book your place\, call 03303327997
URL:https://monksyard.co.uk/event/creative-expressive-writing-workshop-day-two/
END:VEVENT
END:VCALENDAR