BEGIN:VCALENDAR
VERSION:2.0
PRODID:-//Monks Yard - ECPv5.16.3.1//NONSGML v1.0//EN
CALSCALE:GREGORIAN
METHOD:PUBLISH
X-WR-CALNAME:Monks Yard
X-ORIGINAL-URL:https://monksyard.co.uk
X-WR-CALDESC:Events for Monks Yard
BEGIN:VTIMEZONE
TZID:UTC
BEGIN:STANDARD
TZOFFSETFROM:+0000
TZOFFSETTO:+0000
TZNAME:UTC
DTSTART:20170101T000000
END:STANDARD
END:VTIMEZONE
BEGIN:VEVENT
DTSTART;TZID=UTC:20171121T193000
DTEND;TZID=UTC:20171121T210000
DTSTAMP:20260422T021940
CREATED:20171026T093002Z
LAST-MODIFIED:20171026T093002Z
UID:536-1511292600-1511298000@monksyard.co.uk
SUMMARY:Connect with Photography
DESCRIPTION:Photography group\, for photographers of any skills level.
URL:https://monksyard.co.uk/event/connect-with-photography/
END:VEVENT
END:VCALENDAR