BEGIN:VCALENDAR
VERSION:2.0
PRODID:-//Monks Yard - ECPv5.16.3.1//NONSGML v1.0//EN
CALSCALE:GREGORIAN
METHOD:PUBLISH
X-WR-CALNAME:Monks Yard
X-ORIGINAL-URL:https://monksyard.co.uk
X-WR-CALDESC:Events for Monks Yard
BEGIN:VTIMEZONE
TZID:UTC
BEGIN:STANDARD
TZOFFSETFROM:+0000
TZOFFSETTO:+0000
TZNAME:UTC
DTSTART:20180101T000000
END:STANDARD
END:VTIMEZONE
BEGIN:VEVENT
DTSTART;TZID=UTC:20180918T193000
DTEND;TZID=UTC:20180918T210000
DTSTAMP:20260419T223420
CREATED:20180906T131108Z
LAST-MODIFIED:20180906T131108Z
UID:972-1537299000-1537304400@monksyard.co.uk
SUMMARY:Connect with Photography
DESCRIPTION:Connect with photography group\, all welcome!
URL:https://monksyard.co.uk/event/connect-with-photography-2/
END:VEVENT
END:VCALENDAR