BEGIN:VCALENDAR
VERSION:2.0
PRODID:-//Monks Yard - ECPv5.16.3.1//NONSGML v1.0//EN
CALSCALE:GREGORIAN
METHOD:PUBLISH
X-WR-CALNAME:Monks Yard
X-ORIGINAL-URL:https://monksyard.co.uk
X-WR-CALDESC:Events for Monks Yard
BEGIN:VTIMEZONE
TZID:UTC
BEGIN:STANDARD
TZOFFSETFROM:+0000
TZOFFSETTO:+0000
TZNAME:UTC
DTSTART:20180101T000000
END:STANDARD
END:VTIMEZONE
BEGIN:VEVENT
DTSTART;TZID=UTC:20180914T103000
DTEND;TZID=UTC:20180914T113000
DTSTAMP:20260420T051732
CREATED:20180906T130518Z
LAST-MODIFIED:20180906T130518Z
UID:966-1536921000-1536924600@monksyard.co.uk
SUMMARY:Connect with Coffee
DESCRIPTION:Senior coffee connect\, 10:30am
URL:https://monksyard.co.uk/event/connect-with-coffee/
END:VEVENT
END:VCALENDAR