BEGIN:VCALENDAR
VERSION:2.0
PRODID:-//Monks Yard - ECPv5.16.3.1//NONSGML v1.0//EN
CALSCALE:GREGORIAN
METHOD:PUBLISH
X-WR-CALNAME:Monks Yard
X-ORIGINAL-URL:https://monksyard.co.uk
X-WR-CALDESC:Events for Monks Yard
BEGIN:VTIMEZONE
TZID:UTC
BEGIN:STANDARD
TZOFFSETFROM:+0000
TZOFFSETTO:+0000
TZNAME:UTC
DTSTART:20170101T000000
END:STANDARD
END:VTIMEZONE
BEGIN:VEVENT
DTSTART;TZID=UTC:20171204T120000
DTEND;TZID=UTC:20171209T150000
DTSTAMP:20260422T003603
CREATED:20171123T131418Z
LAST-MODIFIED:20171123T131736Z
UID:662-1512388800-1512831600@monksyard.co.uk
SUMMARY:Christmas menu in the cafe
DESCRIPTION:Our festive menu is available on Mon – Sat from 1st until 23rd December. The Christmas menu must be booked in advance!
URL:https://monksyard.co.uk/event/christmas-menu-in-the-cafe-2/
END:VEVENT
END:VCALENDAR