BEGIN:VCALENDAR
VERSION:2.0
PRODID:-//Monks Yard - ECPv5.16.3.1//NONSGML v1.0//EN
CALSCALE:GREGORIAN
METHOD:PUBLISH
X-WR-CALNAME:Monks Yard
X-ORIGINAL-URL:https://monksyard.co.uk
X-WR-CALDESC:Events for Monks Yard
BEGIN:VTIMEZONE
TZID:UTC
BEGIN:STANDARD
TZOFFSETFROM:+0000
TZOFFSETTO:+0000
TZNAME:UTC
DTSTART:20170101T000000
END:STANDARD
END:VTIMEZONE
BEGIN:VEVENT
DTSTART;TZID=UTC:20171210T160000
DTEND;TZID=UTC:20171210T170000
DTSTAMP:20260422T003439
CREATED:20171123T132743Z
LAST-MODIFIED:20171123T132743Z
UID:677-1512921600-1512925200@monksyard.co.uk
SUMMARY:Christmas Carol Service
DESCRIPTION:Our Christmas Carol Service is back on Sunday 10th December at 4pm. It was lovely to see so many of you there last year so we look forward to welcoming you again. Our candlelit service will include plenty of music and the Christmas story followed by festive nibbles\, mulled wine and possibly a visit from Father Christmas.
URL:https://monksyard.co.uk/event/christmas-carol-service/
END:VEVENT
END:VCALENDAR