BEGIN:VCALENDAR
VERSION:2.0
PRODID:-//Monks Yard - ECPv5.16.3.1//NONSGML v1.0//EN
CALSCALE:GREGORIAN
METHOD:PUBLISH
X-WR-CALNAME:Monks Yard
X-ORIGINAL-URL:https://monksyard.co.uk
X-WR-CALDESC:Events for Monks Yard
BEGIN:VTIMEZONE
TZID:UTC
BEGIN:STANDARD
TZOFFSETFROM:+0000
TZOFFSETTO:+0000
TZNAME:UTC
DTSTART:20190101T000000
END:STANDARD
END:VTIMEZONE
BEGIN:VEVENT
DTSTART;TZID=UTC:20190102T090000
DTEND;TZID=UTC:20190102T160000
DTSTAMP:20260423T083438
CREATED:20181214T145801Z
LAST-MODIFIED:20181214T145801Z
UID:1045-1546419600-1546444800@monksyard.co.uk
SUMMARY:Cafe open as per
DESCRIPTION:Cafe opening hours now back to normal! Monday to Saturday 9am till 4pm and Sunday 9am until 3pm.
URL:https://monksyard.co.uk/event/cafe-open-as-per-2/
END:VEVENT
END:VCALENDAR