BEGIN:VCALENDAR
VERSION:2.0
PRODID:-//Monks Yard - ECPv5.16.3.1//NONSGML v1.0//EN
CALSCALE:GREGORIAN
METHOD:PUBLISH
X-WR-CALNAME:Monks Yard
X-ORIGINAL-URL:https://monksyard.co.uk
X-WR-CALDESC:Events for Monks Yard
BEGIN:VTIMEZONE
TZID:UTC
BEGIN:STANDARD
TZOFFSETFROM:+0000
TZOFFSETTO:+0000
TZNAME:UTC
DTSTART:20180101T000000
END:STANDARD
END:VTIMEZONE
BEGIN:VEVENT
DTSTART;TZID=UTC:20180930T120000
DTEND;TZID=UTC:20180930T160000
DTSTAMP:20260419T191830
CREATED:20180906T133451Z
LAST-MODIFIED:20180906T133451Z
UID:998-1538308800-1538323200@monksyard.co.uk
SUMMARY:Cafe open
DESCRIPTION:12 – 4
URL:https://monksyard.co.uk/event/cafe-open-3/
END:VEVENT
END:VCALENDAR