BEGIN:VCALENDAR
VERSION:2.0
PRODID:-//Monks Yard - ECPv5.16.3.1//NONSGML v1.0//EN
CALSCALE:GREGORIAN
METHOD:PUBLISH
X-WR-CALNAME:Monks Yard
X-ORIGINAL-URL:https://monksyard.co.uk
X-WR-CALDESC:Events for Monks Yard
BEGIN:VTIMEZONE
TZID:UTC
BEGIN:STANDARD
TZOFFSETFROM:+0000
TZOFFSETTO:+0000
TZNAME:UTC
DTSTART:20180101T000000
END:STANDARD
END:VTIMEZONE
BEGIN:VEVENT
DTSTART;TZID=UTC:20180923T120000
DTEND;TZID=UTC:20180923T160000
DTSTAMP:20260419T190757
CREATED:20180906T133334Z
LAST-MODIFIED:20180906T133334Z
UID:994-1537704000-1537718400@monksyard.co.uk
SUMMARY:Cafe open
DESCRIPTION:
URL:https://monksyard.co.uk/event/cafe-open-2/
END:VEVENT
END:VCALENDAR