BEGIN:VCALENDAR
VERSION:2.0
PRODID:-//Monks Yard - ECPv5.16.3.1//NONSGML v1.0//EN
CALSCALE:GREGORIAN
METHOD:PUBLISH
X-WR-CALNAME:Monks Yard
X-ORIGINAL-URL:https://monksyard.co.uk
X-WR-CALDESC:Events for Monks Yard
BEGIN:VTIMEZONE
TZID:UTC
BEGIN:STANDARD
TZOFFSETFROM:+0000
TZOFFSETTO:+0000
TZNAME:UTC
DTSTART:20180101T000000
END:STANDARD
END:VTIMEZONE
BEGIN:VEVENT
DTSTART;TZID=UTC:20181222T090000
DTEND;TZID=UTC:20181222T150000
DTSTAMP:20260421T084449
CREATED:20181214T144427Z
LAST-MODIFIED:20181214T144717Z
UID:1029-1545469200-1545490800@monksyard.co.uk
SUMMARY:Cafe closes early today
DESCRIPTION:Wishing all of our customers old and new a Happy Christmas and New Year. Thank you so much for you support in 2018 and during our move to Horton Manor!
URL:https://monksyard.co.uk/event/cafe-closes-early-today/
END:VEVENT
END:VCALENDAR