BEGIN:VCALENDAR
VERSION:2.0
PRODID:-//Monks Yard - ECPv5.16.3.1//NONSGML v1.0//EN
CALSCALE:GREGORIAN
METHOD:PUBLISH
X-WR-CALNAME:Monks Yard
X-ORIGINAL-URL:https://monksyard.co.uk
X-WR-CALDESC:Events for Monks Yard
BEGIN:VTIMEZONE
TZID:UTC
BEGIN:STANDARD
TZOFFSETFROM:+0000
TZOFFSETTO:+0000
TZNAME:UTC
DTSTART:20180101T000000
END:STANDARD
END:VTIMEZONE
BEGIN:VEVENT
DTSTART;VALUE=DATE:20181223
DTEND;VALUE=DATE:20181224
DTSTAMP:20260419T190930
CREATED:20181214T144828Z
LAST-MODIFIED:20181214T144828Z
UID:1033-1545523200-1545609599@monksyard.co.uk
SUMMARY:Cafe Closed
DESCRIPTION:Wishing all of our customers old and new a Happy Christmas and New Year. Thank you so much for you support in 2018 and during our move to Horton Manor!
URL:https://monksyard.co.uk/event/cafe-closed/
END:VEVENT
END:VCALENDAR