BEGIN:VCALENDAR
VERSION:2.0
PRODID:-//Monks Yard - ECPv5.16.3.1//NONSGML v1.0//EN
CALSCALE:GREGORIAN
METHOD:PUBLISH
X-WR-CALNAME:Monks Yard
X-ORIGINAL-URL:https://monksyard.co.uk
X-WR-CALDESC:Events for Monks Yard
BEGIN:VTIMEZONE
TZID:UTC
BEGIN:STANDARD
TZOFFSETFROM:+0000
TZOFFSETTO:+0000
TZNAME:UTC
DTSTART:20170101T000000
END:STANDARD
END:VTIMEZONE
BEGIN:VEVENT
DTSTART;TZID=UTC:20171027T070000
DTEND;TZID=UTC:20171027T083000
DTSTAMP:20260422T054045
CREATED:20171025T143403Z
LAST-MODIFIED:20171025T143403Z
UID:485-1509087600-1509093000@monksyard.co.uk
SUMMARY:Business In Ilminster Group
DESCRIPTION:Networking breakfast group. Please follow the link for more info: http://www.biignetworking.co.uk
URL:https://monksyard.co.uk/event/business-in-ilminster-group/
END:VEVENT
END:VCALENDAR