BEGIN:VCALENDAR
VERSION:2.0
PRODID:-//Monks Yard - ECPv5.16.3.1//NONSGML v1.0//EN
CALSCALE:GREGORIAN
METHOD:PUBLISH
X-WR-CALNAME:Monks Yard
X-ORIGINAL-URL:https://monksyard.co.uk
X-WR-CALDESC:Events for Monks Yard
BEGIN:VTIMEZONE
TZID:UTC
BEGIN:STANDARD
TZOFFSETFROM:+0000
TZOFFSETTO:+0000
TZNAME:UTC
DTSTART:20170101T000000
END:STANDARD
END:VTIMEZONE
BEGIN:VEVENT
DTSTART;TZID=UTC:20171110T070000
DTEND;TZID=UTC:20171110T090000
DTSTAMP:20260422T040518
CREATED:20171025T151300Z
LAST-MODIFIED:20171025T151300Z
UID:501-1510297200-1510304400@monksyard.co.uk
SUMMARY:BIIG Networking
DESCRIPTION:Ilminster networking group breakfast.
URL:https://monksyard.co.uk/event/biig-networking/
END:VEVENT
END:VCALENDAR