BEGIN:VCALENDAR
VERSION:2.0
PRODID:-//Monks Yard - ECPv5.16.3.1//NONSGML v1.0//EN
CALSCALE:GREGORIAN
METHOD:PUBLISH
X-WR-CALNAME:Monks Yard
X-ORIGINAL-URL:https://monksyard.co.uk
X-WR-CALDESC:Events for Monks Yard
BEGIN:VTIMEZONE
TZID:UTC
BEGIN:STANDARD
TZOFFSETFROM:+0000
TZOFFSETTO:+0000
TZNAME:UTC
DTSTART:20180101T000000
END:STANDARD
END:VTIMEZONE
BEGIN:VEVENT
DTSTART;TZID=UTC:20180831T070000
DTEND;TZID=UTC:20180831T090000
DTSTAMP:20260420T192656
CREATED:20180710T132739Z
LAST-MODIFIED:20180710T132739Z
UID:841-1535698800-1535706000@monksyard.co.uk
SUMMARY:BIIG Networking Group
DESCRIPTION:Business In Ilminster Group (BiiG) is a friendly weekly networking meeting that brings together a wide range of businesses in and around Ilminster in Somerset. \nhttps://www.biignetworking.co.uk
URL:https://monksyard.co.uk/event/biig-networking-group/
END:VEVENT
END:VCALENDAR