BEGIN:VCALENDAR
VERSION:2.0
PRODID:-//Monks Yard - ECPv5.16.3.1//NONSGML v1.0//EN
CALSCALE:GREGORIAN
METHOD:PUBLISH
X-WR-CALNAME:Monks Yard
X-ORIGINAL-URL:https://monksyard.co.uk
X-WR-CALDESC:Events for Monks Yard
BEGIN:VTIMEZONE
TZID:UTC
BEGIN:STANDARD
TZOFFSETFROM:+0000
TZOFFSETTO:+0000
TZNAME:UTC
DTSTART:20180101T000000
END:STANDARD
END:VTIMEZONE
BEGIN:VEVENT
DTSTART;TZID=UTC:20180921T070000
DTEND;TZID=UTC:20180921T090000
DTSTAMP:20260419T205634
CREATED:20180906T131500Z
LAST-MODIFIED:20180906T131500Z
UID:980-1537513200-1537520400@monksyard.co.uk
SUMMARY:BIIG
DESCRIPTION:Networking Breakfast
URL:https://monksyard.co.uk/event/biig-2/
END:VEVENT
END:VCALENDAR