BEGIN:VCALENDAR
VERSION:2.0
PRODID:-//Monks Yard - ECPv5.16.3.1//NONSGML v1.0//EN
CALSCALE:GREGORIAN
METHOD:PUBLISH
X-WR-CALNAME:Monks Yard
X-ORIGINAL-URL:https://monksyard.co.uk
X-WR-CALDESC:Events for Monks Yard
BEGIN:VTIMEZONE
TZID:UTC
BEGIN:STANDARD
TZOFFSETFROM:+0000
TZOFFSETTO:+0000
TZNAME:UTC
DTSTART:20170101T000000
END:STANDARD
END:VTIMEZONE
BEGIN:VEVENT
DTSTART;TZID=UTC:20171021T100000
DTEND;TZID=UTC:20171021T120000
DTSTAMP:20260422T054142
CREATED:20171025T144010Z
LAST-MODIFIED:20171025T144010Z
UID:487-1508580000-1508587200@monksyard.co.uk
SUMMARY:Bereavement Seminar
DESCRIPTION:This is a free event\, but please do book your place. For those who have suffered loss. Call or email Monks Yard for more details.
URL:https://monksyard.co.uk/event/bereavement-seminar/
END:VEVENT
END:VCALENDAR