BEGIN:VCALENDAR
VERSION:2.0
PRODID:-//Monks Yard - ECPv5.16.3.1//NONSGML v1.0//EN
CALSCALE:GREGORIAN
METHOD:PUBLISH
X-WR-CALNAME:Monks Yard
X-ORIGINAL-URL:https://monksyard.co.uk
X-WR-CALDESC:Events for Monks Yard
BEGIN:VTIMEZONE
TZID:UTC
BEGIN:STANDARD
TZOFFSETFROM:+0000
TZOFFSETTO:+0000
TZNAME:UTC
DTSTART:20180101T000000
END:STANDARD
END:VTIMEZONE
BEGIN:VEVENT
DTSTART;TZID=UTC:20180820T103000
DTEND;TZID=UTC:20180820T113000
DTSTAMP:20260421T030059
CREATED:20180710T131615Z
LAST-MODIFIED:20180710T131615Z
UID:823-1534761000-1534764600@monksyard.co.uk
SUMMARY:Bereavement Connect
DESCRIPTION:For those dealing with loss.
URL:https://monksyard.co.uk/event/bereavement-connect/
END:VEVENT
END:VCALENDAR