BEGIN:VCALENDAR
VERSION:2.0
PRODID:-//Monks Yard - ECPv5.16.3.1//NONSGML v1.0//EN
CALSCALE:GREGORIAN
METHOD:PUBLISH
X-WR-CALNAME:Monks Yard
X-ORIGINAL-URL:https://monksyard.co.uk
X-WR-CALDESC:Events for Monks Yard
BEGIN:VTIMEZONE
TZID:UTC
BEGIN:STANDARD
TZOFFSETFROM:+0000
TZOFFSETTO:+0000
TZNAME:UTC
DTSTART:20180101T000000
END:STANDARD
END:VTIMEZONE
BEGIN:VEVENT
DTSTART;TZID=UTC:20180704T110000
DTEND;TZID=UTC:20180704T150000
DTSTAMP:20260421T212130
CREATED:20180627T160601Z
LAST-MODIFIED:20180627T160601Z
UID:789-1530702000-1530716400@monksyard.co.uk
SUMMARY:Badbury Flower Company - outside the cafe
DESCRIPTION:Each Wednesday (weather permitting) we enjoy the company of Helen from Badbury Flowers. Beautiful\, hand tide flowers locally grown in Somerset \nhttps://www.badburyflowerco.com
URL:https://monksyard.co.uk/event/badbury-flower-company-outside-the-cafe/
END:VEVENT
END:VCALENDAR