BEGIN:VCALENDAR
VERSION:2.0
PRODID:-//Monks Yard - ECPv5.16.3.1//NONSGML v1.0//EN
CALSCALE:GREGORIAN
METHOD:PUBLISH
X-WR-CALNAME:Monks Yard
X-ORIGINAL-URL:https://monksyard.co.uk
X-WR-CALDESC:Events for Monks Yard
BEGIN:VTIMEZONE
TZID:UTC
BEGIN:STANDARD
TZOFFSETFROM:+0000
TZOFFSETTO:+0000
TZNAME:UTC
DTSTART:20170101T000000
END:STANDARD
END:VTIMEZONE
BEGIN:VEVENT
DTSTART;TZID=UTC:20171103T193000
DTEND;TZID=UTC:20171103T210000
DTSTAMP:20260422T054045
CREATED:20171026T092213Z
LAST-MODIFIED:20171026T092213Z
UID:529-1509737400-1509742800@monksyard.co.uk
SUMMARY:Acoustic Connect
DESCRIPTION:For all musicians\, poets\, songwriters and more.
URL:https://monksyard.co.uk/event/acoustic-connect/
END:VEVENT
END:VCALENDAR