BEGIN:VCALENDAR
VERSION:2.0
PRODID:-//Monks Yard - ECPv5.16.3.1//NONSGML v1.0//EN
CALSCALE:GREGORIAN
METHOD:PUBLISH
X-WR-CALNAME:Monks Yard
X-ORIGINAL-URL:https://monksyard.co.uk
X-WR-CALDESC:Events for Monks Yard
BEGIN:VTIMEZONE
TZID:UTC
BEGIN:STANDARD
TZOFFSETFROM:+0000
TZOFFSETTO:+0000
TZNAME:UTC
DTSTART:20170101T000000
END:STANDARD
END:VTIMEZONE
BEGIN:VEVENT
DTSTART;TZID=UTC:20171201T193000
DTEND;TZID=UTC:20171201T210000
DTSTAMP:20260422T003209
CREATED:20171123T132935Z
LAST-MODIFIED:20171123T132935Z
UID:679-1512156600-1512162000@monksyard.co.uk
SUMMARY:Acoustic Connect
DESCRIPTION:Open to all.
URL:https://monksyard.co.uk/event/acoustic-connect-2/
END:VEVENT
END:VCALENDAR